BEGIN:VCALENDAR
VERSION:2.0
PRODID:-//Neil Conway - ECPv6.15.20//NONSGML v1.0//EN
CALSCALE:GREGORIAN
METHOD:PUBLISH
X-WR-CALNAME:Neil Conway
X-ORIGINAL-URL:https://neilwithbeer.com
X-WR-CALDESC:Events for Neil Conway
REFRESH-INTERVAL;VALUE=DURATION:PT1H
X-Robots-Tag:noindex
X-PUBLISHED-TTL:PT1H
BEGIN:VTIMEZONE
TZID:UTC
BEGIN:STANDARD
TZOFFSETFROM:+0000
TZOFFSETTO:+0000
TZNAME:UTC
DTSTART:20210101T000000
END:STANDARD
END:VTIMEZONE
BEGIN:VTIMEZONE
TZID:America/New_York
BEGIN:DAYLIGHT
TZOFFSETFROM:-0500
TZOFFSETTO:-0400
TZNAME:EDT
DTSTART:20210314T070000
END:DAYLIGHT
BEGIN:STANDARD
TZOFFSETFROM:-0400
TZOFFSETTO:-0500
TZNAME:EST
DTSTART:20211107T060000
END:STANDARD
BEGIN:DAYLIGHT
TZOFFSETFROM:-0500
TZOFFSETTO:-0400
TZNAME:EDT
DTSTART:20220313T070000
END:DAYLIGHT
BEGIN:STANDARD
TZOFFSETFROM:-0400
TZOFFSETTO:-0500
TZNAME:EST
DTSTART:20221106T060000
END:STANDARD
BEGIN:DAYLIGHT
TZOFFSETFROM:-0500
TZOFFSETTO:-0400
TZNAME:EDT
DTSTART:20230312T070000
END:DAYLIGHT
BEGIN:STANDARD
TZOFFSETFROM:-0400
TZOFFSETTO:-0500
TZNAME:EST
DTSTART:20231105T060000
END:STANDARD
END:VTIMEZONE
BEGIN:VEVENT
DTSTART;TZID=UTC:20230203T190000
DTEND;TZID=UTC:20230203T220000
DTSTAMP:20260423T204842
CREATED:20230106T183316Z
LAST-MODIFIED:20230106T183316Z
UID:121-1675450800-1675461600@neilwithbeer.com
SUMMARY:Neil Conway at Growler Haus of West Greenville!
DESCRIPTION:
URL:https://neilwithbeer.com/event/neil-conway-at-growler-haus-of-west-greenville/
LOCATION:Growler Haus Village of West Greenville\, 12 Lois Ave.\, Greenville\, SC\, 29611
END:VEVENT
BEGIN:VEVENT
DTSTART;TZID=UTC:20221119T183000
DTEND;TZID=UTC:20221119T203000
DTSTAMP:20260423T204842
CREATED:20220821T190921Z
LAST-MODIFIED:20220821T190921Z
UID:106-1668882600-1668889800@neilwithbeer.com
SUMMARY:Jocassee Valley Brewing Company
DESCRIPTION:
URL:https://neilwithbeer.com/event/jocassee-valley-brewing-company/
LOCATION:Jocassee Valley Brewing Company\, 13412 N Hwy 11\, Salem\, South Carolina\, 29676
ATTACH;FMTTYPE=image/jpeg:https://neilwithbeer.com/wp-content/uploads/2022/08/cropped-31.jpg
END:VEVENT
BEGIN:VEVENT
DTSTART;TZID=UTC:20221028T190000
DTEND;TZID=UTC:20221028T220000
DTSTAMP:20260423T204842
CREATED:20220926T222837Z
LAST-MODIFIED:20220926T222837Z
UID:113-1666983600-1666994400@neilwithbeer.com
SUMMARY:Neil Conway at Growler Haus Village of West Greenville
DESCRIPTION:Come join me as I make my triumphant return to the Village of West Greenville! \n 
URL:https://neilwithbeer.com/event/neil-conway-at-growler-haus-village-of-west-greenville/
LOCATION:Growler Haus Village of West Greenville\, 12 Lois Ave.\, Greenville\, SC\, 29611
ATTACH;FMTTYPE=image/jpeg:https://neilwithbeer.com/wp-content/uploads/2022/08/cropped-31.jpg
END:VEVENT
BEGIN:VEVENT
DTSTART;TZID=UTC:20220923T180000
DTEND;TZID=UTC:20220923T203000
DTSTAMP:20260423T204842
CREATED:20220829T224033Z
LAST-MODIFIED:20220829T224033Z
UID:109-1663956000-1663965000@neilwithbeer.com
SUMMARY:Tavern at Windsor
DESCRIPTION:
URL:https://neilwithbeer.com/event/tavern-at-windsor/
LOCATION:Tavern at Windsor\, 1308 Falcons Drive\, Walhalla\, SC\, 29617
END:VEVENT
BEGIN:VEVENT
DTSTART;TZID=America/New_York:20220829T183000
DTEND;TZID=America/New_York:20220829T200000
DTSTAMP:20260423T204842
CREATED:20220821T152559Z
LAST-MODIFIED:20220821T152559Z
UID:98-1661797800-1661803200@neilwithbeer.com
SUMMARY:San Souci Community Gardens
DESCRIPTION:
URL:https://neilwithbeer.com/event/san-souci-community-gardens/
LOCATION:San Souci Community Garden\, 12 Ethelridge Dr\, Greenville\, SC\, United States
ATTACH;FMTTYPE=image/jpeg:https://neilwithbeer.com/wp-content/uploads/2022/08/cropped-31.jpg
END:VEVENT
END:VCALENDAR