BEGIN:VCALENDAR
VERSION:2.0
PRODID:-//Neil Conway - ECPv6.15.20//NONSGML v1.0//EN
CALSCALE:GREGORIAN
METHOD:PUBLISH
X-ORIGINAL-URL:https://neilwithbeer.com
X-WR-CALDESC:Events for Neil Conway
REFRESH-INTERVAL;VALUE=DURATION:PT1H
X-Robots-Tag:noindex
X-PUBLISHED-TTL:PT1H
BEGIN:VTIMEZONE
TZID:UTC
BEGIN:STANDARD
TZOFFSETFROM:+0000
TZOFFSETTO:+0000
TZNAME:UTC
DTSTART:20250101T000000
END:STANDARD
END:VTIMEZONE
BEGIN:VEVENT
DTSTART;TZID=UTC:20260123T183000
DTEND;TZID=UTC:20260123T203000
DTSTAMP:20260423T235650
CREATED:20251219T233407Z
LAST-MODIFIED:20251222T204303Z
UID:234-1769193000-1769200200@neilwithbeer.com
SUMMARY:Neil Conway at Jocassee Valley Brewing Company
DESCRIPTION:Come hear some acoustic fingerpicking blues and originals at this majestic brewery in the foothills of South Carolina!
URL:https://neilwithbeer.com/event/neil-conway-at-jocassee-valley-brewing-company-9/
LOCATION:Jocassee Valley Brewing Company\, 13412 N Hwy 11\, Salem\, South Carolina\, 29676
END:VEVENT
BEGIN:VEVENT
DTSTART;TZID=UTC:20260418T113000
DTEND;TZID=UTC:20260418T160000
DTSTAMP:20260423T235650
CREATED:20260311T185941Z
LAST-MODIFIED:20260311T185941Z
UID:240-1776511800-1776528000@neilwithbeer.com
SUMMARY:BK's Birthday Bash for Collins Family Ministries!
DESCRIPTION:BK’s Birthday Bash is a community celebration honoring BK\, a beloved member of Collins Family Ministries and the surrounding community. \nThe event will take place on April 18 from 11:30 AM to 4:00 PM at Utica Baptist Church and will include BBQ\, live music\, and a silent auction.
URL:https://neilwithbeer.com/event/bks-birthday-bash-for-collins-family-ministries/
LOCATION:Utica Baptist Church\, 4056 Wells Hwy\, Seneca\, SC\, 29678\, United States
END:VEVENT
END:VCALENDAR